BEGIN:VCALENDAR
VERSION:2.0
PRODID:-//Frans van Tuijl - ECPv6.15.18//NONSGML v1.0//EN
CALSCALE:GREGORIAN
METHOD:PUBLISH
X-ORIGINAL-URL:https://fransvantuijl.com
X-WR-CALDESC:Evenementen voor Frans van Tuijl
REFRESH-INTERVAL;VALUE=DURATION:PT1H
X-Robots-Tag:noindex
X-PUBLISHED-TTL:PT1H
BEGIN:VTIMEZONE
TZID:Europe/Amsterdam
BEGIN:DAYLIGHT
TZOFFSETFROM:+0100
TZOFFSETTO:+0200
TZNAME:CEST
DTSTART:20240331T010000
END:DAYLIGHT
BEGIN:STANDARD
TZOFFSETFROM:+0200
TZOFFSETTO:+0100
TZNAME:CET
DTSTART:20241027T010000
END:STANDARD
BEGIN:DAYLIGHT
TZOFFSETFROM:+0100
TZOFFSETTO:+0200
TZNAME:CEST
DTSTART:20250330T010000
END:DAYLIGHT
BEGIN:STANDARD
TZOFFSETFROM:+0200
TZOFFSETTO:+0100
TZNAME:CET
DTSTART:20251026T010000
END:STANDARD
BEGIN:DAYLIGHT
TZOFFSETFROM:+0100
TZOFFSETTO:+0200
TZNAME:CEST
DTSTART:20260329T010000
END:DAYLIGHT
BEGIN:STANDARD
TZOFFSETFROM:+0200
TZOFFSETTO:+0100
TZNAME:CET
DTSTART:20261025T010000
END:STANDARD
END:VTIMEZONE
BEGIN:VEVENT
DTSTART;TZID=Europe/Amsterdam:20251215T200000
DTEND;TZID=Europe/Amsterdam:20251215T210000
DTSTAMP:20260424T121332
CREATED:20251101T115331Z
LAST-MODIFIED:20251101T115331Z
UID:28066-1765828800-1765832400@fransvantuijl.com
SUMMARY:Kerstoptreden met La Bonne Esperance in De Wilgenhof Maandag 15 december 2025
DESCRIPTION:Kerstoptreden\n\nOp maandag 15 december 2025 brengt La Bonne Espérance de kerstsfeer bij Vitalis De Wilgenhof binnen.\nTijd: 20:00-21:00 uur\nPianist: Frans van Tuijl \nVerdere informatie op de website van La Bonne Espérance
URL:https://fransvantuijl.com/event/kerstoptreden-met-la-bonne-esperance-in-de-wilgenhof-maandag-15-december-2025/
CATEGORIES:Extern concert
END:VEVENT
BEGIN:VEVENT
DTSTART;TZID=Europe/Amsterdam:20251222T080000
DTEND;TZID=Europe/Amsterdam:20251222T170000
DTSTAMP:20260424T121332
CREATED:20250524T191658Z
LAST-MODIFIED:20250524T191658Z
UID:27795-1766390400-1766422800@fransvantuijl.com
SUMMARY:Kerstconcert met La Bonne Espérance 22 december 2025
DESCRIPTION:Op maandag 22 december 2025 is er het Kerstconcert met La Bonne Espérance in Theater de Schalm in Veldhoven.\nOok dit jaar zet het koor weer een bijzonder en gevarieerd kerstoptreden op de planken. Voor de pauze worden in afwisseling met Vrouwen Vocaal Ensemble Sirena liederen gezongen die u zeker alvast in de kerstsfeer zullen brengen. Na de pauze zal meesterverteller Jacques van Gerwen het kerstverhaal “een kindeken Jezus in Vlaanderen” van Felix Timmermans op geheel eigen wijze voordragen\, waarbij La Bonne met daarbij passende kerstliederen voor een sfeervolle muzikale omlijsting zal zorgen. \nPianist: Frans van Tuijl
URL:https://fransvantuijl.com/event/kerstconcert-met-la-bonne-esperance-22-december-2025/
LOCATION:Theater De Schalm Veldhoven
CATEGORIES:Extern concert
END:VEVENT
BEGIN:VEVENT
DTSTART;TZID=Europe/Amsterdam:20251224T200000
DTEND;TZID=Europe/Amsterdam:20251224T210000
DTSTAMP:20260424T121332
CREATED:20250524T192114Z
LAST-MODIFIED:20250524T192114Z
UID:27798-1766606400-1766610000@fransvantuijl.com
SUMMARY:Kerstmis in Venlo woensdagavond 24 dec 2025
DESCRIPTION:De Gemengde zangvereniging Vivente o.l.v. dirigent Leo Smeets verzorgt de Kerstmis op woensdagavond 24 december 2025 in de Heilige Familiekerk in Venlo. \nOrganist: Frans van Tuijl \n 
URL:https://fransvantuijl.com/event/kerstmis-in-venlo-woensdagavond-24-dec-2025/
LOCATION:H.Familiekerk te Venlo\, Belletablestraat 21\, Venlo
CATEGORIES:Extern concert
END:VEVENT
END:VCALENDAR