BEGIN:VCALENDAR
VERSION:2.0
PRODID:-//Frans van Tuijl - ECPv6.15.18//NONSGML v1.0//EN
CALSCALE:GREGORIAN
METHOD:PUBLISH
X-WR-CALNAME:Frans van Tuijl
X-ORIGINAL-URL:https://fransvantuijl.com
X-WR-CALDESC:Evenementen voor Frans van Tuijl
REFRESH-INTERVAL;VALUE=DURATION:PT1H
X-Robots-Tag:noindex
X-PUBLISHED-TTL:PT1H
BEGIN:VTIMEZONE
TZID:Europe/Amsterdam
BEGIN:DAYLIGHT
TZOFFSETFROM:+0100
TZOFFSETTO:+0200
TZNAME:CEST
DTSTART:20240331T010000
END:DAYLIGHT
BEGIN:STANDARD
TZOFFSETFROM:+0200
TZOFFSETTO:+0100
TZNAME:CET
DTSTART:20241027T010000
END:STANDARD
BEGIN:DAYLIGHT
TZOFFSETFROM:+0100
TZOFFSETTO:+0200
TZNAME:CEST
DTSTART:20250330T010000
END:DAYLIGHT
BEGIN:STANDARD
TZOFFSETFROM:+0200
TZOFFSETTO:+0100
TZNAME:CET
DTSTART:20251026T010000
END:STANDARD
BEGIN:DAYLIGHT
TZOFFSETFROM:+0100
TZOFFSETTO:+0200
TZNAME:CEST
DTSTART:20260329T010000
END:DAYLIGHT
BEGIN:STANDARD
TZOFFSETFROM:+0200
TZOFFSETTO:+0100
TZNAME:CET
DTSTART:20261025T010000
END:STANDARD
END:VTIMEZONE
BEGIN:VEVENT
DTSTART;TZID=Europe/Amsterdam:20251019T120000
DTEND;TZID=Europe/Amsterdam:20251019T170000
DTSTAMP:20260424T151722
CREATED:20250522T091551Z
LAST-MODIFIED:20250921T182550Z
UID:27772-1760875200-1760893200@fransvantuijl.com
SUMMARY:Operette concert zondag 19 oktober 25 bij NZ seafoodbar Nico Zwarthoed in Den Bosch
DESCRIPTION:Zondag 19 oktober 2025 vanaf 12:00 uur — optreden van Ellen Valkenburg (sopraan)\, Erik Janse (tenor) en pianist Frans van Tuijl in het NZ Seafood Restaurant van Nico Zwarthoed.\n\nMet deze keer een Operetteprogramma met solo’s en duetten uit diverse Operetten. Een middag vol met de mooiste melodieën uit bekende Operetten terwijl u geniet van een 7-gangen vismenu.\nReserveer snel uw plek\, het aantal beschikbare plaatsen is beperkt. \nU kunt een tafel reserveren via de website:\nNZ Seafoodbar Den Bosch \nLocatie: Stationsplein 81-83\, ‘s-Hertogenbosch — tel: 073 6907616 \n\n\nEllen Valkenburg\, sopraan\nErik Janse\, tenor
URL:https://fransvantuijl.com/event/operette-concert-zondag-22-juni-25-bij-nz-seafoodbar-nico-zwarthoed-in-den-bosch/
LOCATION:NZ seafoodbar Den Bosch\, stationsplein 81-83\, Den Bosch\, Nederland
CATEGORIES:Extern concert
ORGANIZER;CN="Frans van Tuijl":MAILTO:fnmvantuijl@gmail.com
END:VEVENT
BEGIN:VEVENT
DTSTART;TZID=Europe/Amsterdam:20251026T080000
DTEND;TZID=Europe/Amsterdam:20251026T143000
DTSTAMP:20260424T151722
CREATED:20250524T185026Z
LAST-MODIFIED:20250524T185026Z
UID:27780-1761465600-1761489000@fransvantuijl.com
SUMMARY:Gezamenlijk concert 26 oktober 2025
DESCRIPTION:Op zondag 26 oktober 2025 14:30 uur is er een gezamenlijk concert met Gemengde Zangvereniging Con Amore Anima en het gemengd Koor d’ Eyckelbergh. Dit vindt plaats in de Willibrorduskerk in Eersel \nPianist: Frans van Tuijl\no.a. op het programma: The ground en Ubi Caritas van Ola Gjeilo. \n 
URL:https://fransvantuijl.com/event/gezamenlijk-concert-26-oktober-2025/
LOCATION:Willibroduskerk Eersel
END:VEVENT
END:VCALENDAR