BEGIN:VCALENDAR
VERSION:2.0
PRODID:-//Frans van Tuijl - ECPv6.15.18//NONSGML v1.0//EN
CALSCALE:GREGORIAN
METHOD:PUBLISH
X-ORIGINAL-URL:https://fransvantuijl.com
X-WR-CALDESC:Evenementen voor Frans van Tuijl
REFRESH-INTERVAL;VALUE=DURATION:PT1H
X-Robots-Tag:noindex
X-PUBLISHED-TTL:PT1H
BEGIN:VTIMEZONE
TZID:Europe/Amsterdam
BEGIN:DAYLIGHT
TZOFFSETFROM:+0100
TZOFFSETTO:+0200
TZNAME:CEST
DTSTART:20250330T010000
END:DAYLIGHT
BEGIN:STANDARD
TZOFFSETFROM:+0200
TZOFFSETTO:+0100
TZNAME:CET
DTSTART:20251026T010000
END:STANDARD
BEGIN:DAYLIGHT
TZOFFSETFROM:+0100
TZOFFSETTO:+0200
TZNAME:CEST
DTSTART:20260329T010000
END:DAYLIGHT
BEGIN:STANDARD
TZOFFSETFROM:+0200
TZOFFSETTO:+0100
TZNAME:CET
DTSTART:20261025T010000
END:STANDARD
BEGIN:DAYLIGHT
TZOFFSETFROM:+0100
TZOFFSETTO:+0200
TZNAME:CEST
DTSTART:20270328T010000
END:DAYLIGHT
BEGIN:STANDARD
TZOFFSETFROM:+0200
TZOFFSETTO:+0100
TZNAME:CET
DTSTART:20271031T010000
END:STANDARD
END:VTIMEZONE
BEGIN:VEVENT
DTSTART;TZID=Europe/Amsterdam:20260322T150000
DTEND;TZID=Europe/Amsterdam:20260322T170000
DTSTAMP:20260420T102118
CREATED:20250629T091804Z
LAST-MODIFIED:20251226T150114Z
UID:27862-1774191600-1774198800@fransvantuijl.com
SUMMARY:Zondag 22 maart 2026 saxofonist Henk van Twillert
DESCRIPTION:Henk van Twillert saxofoon\n\nmaart 22\, 2026 @ 15:00 – 17:00\n\n\n\nZondagmiddag 22 maart 2026  om 15:00 uur speelt saxofonist Henk van Twillert samen met Frans aan de piano een divers programma. \nHet programma wordt nog bekend gemaakt.\nWe zijn blij deze saxofonist die op podia over de hele wereld heeft gespeeld weer bij ons te mogen verwelkomen! \nTijd: 15:00 uur\nInloop vanaf: 14;30 uur\nEntree: 25 Euro incl. alle consumpties\nU kunt een plaats reserveren/betalen via deze knop: Bestellen 
URL:https://fransvantuijl.com/event/zondag-22-maart-2026-saxofonist-henk-van-twillert/
LOCATION:Concertpodium Frans van Tuijl\, Azalealaan 4\, Waalre\, 5582ED
CATEGORIES:Huisconcert
ATTACH;FMTTYPE=image/jpeg:https://fransvantuijl.com/wp-content/uploads/2019/08/713949_orig-e1766761251974.jpg
ORGANIZER;CN="Frans van Tuijl":MAILTO:fnmvantuijl@gmail.com
END:VEVENT
BEGIN:VEVENT
DTSTART;TZID=Europe/Amsterdam:20260329T143000
DTEND;TZID=Europe/Amsterdam:20260329T160000
DTSTAMP:20260420T102118
CREATED:20251226T160904Z
LAST-MODIFIED:20251228T094829Z
UID:28209-1774794600-1774800000@fransvantuijl.com
SUMMARY:Zondag 29 maart 2026 The Most Beautiful Musical Songs in de Weeffabriek in Geldrop
DESCRIPTION:Zondag 29 maart 2026 is er een optreden van Sanne Mallant sopraan\, Florens Eykemans bariton en pianist Frans van Tuijl \nEen Musical programma met songs en duetten uit diverse musicals.  Een middag vol met de mooiste melodieën uit musicals! \nLocatie: Cultuurcentrum Weeffabriek\, Molenstraat 23 5664HV Geldrop.\nOrganisatie: Cultuur aan de Dommel\, email: caddgeldrop@gmail.com of tel: 0613908192\nAanvang: 14:30 uur\nTickets: via de website Weeffabriek
URL:https://fransvantuijl.com/event/zondag-29-maart-2026-musical-in-de-weeffabriek-in-geldrop/
LOCATION:Cultuurcentrum Weeffabriek\, Molenstraat 23\, Geldrop\, 5664HV
CATEGORIES:Extern concert
END:VEVENT
BEGIN:VEVENT
DTSTART;TZID=Europe/Amsterdam:20260412T160000
DTEND;TZID=Europe/Amsterdam:20260412T173000
DTSTAMP:20260420T102118
CREATED:20250629T095036Z
LAST-MODIFIED:20260407T121315Z
UID:27875-1776009600-1776015000@fransvantuijl.com
SUMMARY:Zondag 12 april 2026 Concert Vrienden van het Lied
DESCRIPTION:  \nZondag 12 april 2026 om 16:00 uur op de Azalealaan 4 te Waalre een concert van Vrienden van het Lied.  \nProgramma volgt nog. \nHet concert wordt uitgevoerd door: \nStefan Kennedy tenor.                   Charlie Bo Meijering pianist\n \n  \n  \n  \n  \n  \n  \n  \nEntree niet leden: 25 euro \n. koffie/thee: alleen voor aanvang van het concert á Euro 1\,50. (er is slechts een korte pauze) \n. na afloop is er een gezellig samenzijn (drankje/wijn á Euro 2\,00 ) \nWe hopen zeer velen van U te mogen ontvangen voor dit prachtige concert. \nReserveert U zo spoedig mogelijk! \nHartelijke groeten\,\nFrans van Tuijl en Marleen Abbringh-Polee. \n  \nAanmelden:\nbij contactpersoon Marleen Abbringh-Polee  per mail: eindhoven@vvhl.nl of\nper telefoon: Marleen Abbringh-Polee\n040 2832943 / 06 29404837 \n  \nTIJD\n(Zondag) 16:00 inloop vanaf 15:30 uur. \nLOCATIE\nAzalealaan 4\, 5582 ED Waalre
URL:https://fransvantuijl.com/event/zondag-12-april-2026-concert-vrienden-van-het-lied/
LOCATION:Concertpodium Frans van Tuijl\, Azalealaan 4\, Waalre\, 5582ED
CATEGORIES:Huisconcert
ATTACH;FMTTYPE=image/jpeg:https://fransvantuijl.com/wp-content/uploads/2021/09/IMG_3285-scaled-e1766761316712.jpeg
ORGANIZER;CN="Frans van Tuijl":MAILTO:fnmvantuijl@gmail.com
END:VEVENT
BEGIN:VEVENT
DTSTART;TZID=Europe/Amsterdam:20260517T150000
DTEND;TZID=Europe/Amsterdam:20260517T170000
DTSTAMP:20260420T102118
CREATED:20250629T093123Z
LAST-MODIFIED:20251226T150605Z
UID:27868-1779030000-1779037200@fransvantuijl.com
SUMMARY:Zondag 17 mei 2026 Mezzosopraan Claudia Kamaris
DESCRIPTION:Op Zondag 17 mei 2026  om 15:00 uur zingt  Mezzosopraan Claudia Kamaris met pianist Frans van Tuijl prachtige Opera aria’s.\nClaudia beroert het hart van de mensen met haar intense warme stem vol muzikaliteit.\nProgramma volgt nog. \nTijd: 15:00 uur\nPlaats: Azalealaan 4 Waalre\ninloop vanaf 14:30 uur\nEntree: 25 euro incl. alle consumpties. \nU kunt een plaats reserveren/betalen via deze knop: Bestellen 
URL:https://fransvantuijl.com/event/zondag-17-mei-2026-mezzosopraan-claudia-kamaris/
LOCATION:Concertpodium Frans van Tuijl\, Azalealaan 4\, Waalre\, 5582ED
CATEGORIES:Huisconcert
ATTACH;FMTTYPE=image/jpeg:https://fransvantuijl.com/wp-content/uploads/2021/10/IMG_5562_pp1095-scaled-e1766761514304.jpg
ORGANIZER;CN="Frans van Tuijl":MAILTO:fnmvantuijl@gmail.com
END:VEVENT
END:VCALENDAR