BEGIN:VCALENDAR
VERSION:2.0
PRODID:-//Frans van Tuijl - ECPv6.15.18//NONSGML v1.0//EN
CALSCALE:GREGORIAN
METHOD:PUBLISH
X-WR-CALNAME:Frans van Tuijl
X-ORIGINAL-URL:https://fransvantuijl.com
X-WR-CALDESC:Evenementen voor Frans van Tuijl
REFRESH-INTERVAL;VALUE=DURATION:PT1H
X-Robots-Tag:noindex
X-PUBLISHED-TTL:PT1H
BEGIN:VTIMEZONE
TZID:Europe/Amsterdam
BEGIN:DAYLIGHT
TZOFFSETFROM:+0100
TZOFFSETTO:+0200
TZNAME:CEST
DTSTART:20240331T010000
END:DAYLIGHT
BEGIN:STANDARD
TZOFFSETFROM:+0200
TZOFFSETTO:+0100
TZNAME:CET
DTSTART:20241027T010000
END:STANDARD
BEGIN:DAYLIGHT
TZOFFSETFROM:+0100
TZOFFSETTO:+0200
TZNAME:CEST
DTSTART:20250330T010000
END:DAYLIGHT
BEGIN:STANDARD
TZOFFSETFROM:+0200
TZOFFSETTO:+0100
TZNAME:CET
DTSTART:20251026T010000
END:STANDARD
BEGIN:DAYLIGHT
TZOFFSETFROM:+0100
TZOFFSETTO:+0200
TZNAME:CEST
DTSTART:20260329T010000
END:DAYLIGHT
BEGIN:STANDARD
TZOFFSETFROM:+0200
TZOFFSETTO:+0100
TZNAME:CET
DTSTART:20261025T010000
END:STANDARD
END:VTIMEZONE
BEGIN:VEVENT
DTSTART;TZID=Europe/Amsterdam:20251130T150000
DTEND;TZID=Europe/Amsterdam:20251130T170000
DTSTAMP:20260424T151702
CREATED:20250524T190843Z
LAST-MODIFIED:20251101T112327Z
UID:27789-1764514800-1764522000@fransvantuijl.com
SUMMARY:Het Requiem van Fauré  Zondag 30 november 2025
DESCRIPTION:Op zondag 30 november 2025 zingt het Astens gemengd koor; Puur Sangh o.l.v dirigent Rob Jacobs o.a. het Requiem van Gabriel Fauré. Locatie: De Heilige Maria Presentatie Kerk in Asten.\nOp het orgel speelt: Maurick Reuser.\nOok worden er liederen van Fauré uitgevoerd door:\nSopraan Valérie Stammet\nBas-bariton Bruno de Jonghe\nPianist: Frans van Tuijl \n \n 
URL:https://fransvantuijl.com/event/het-requiem-van-faure-zondag-30-november-2025/
LOCATION:De Heilige Maria Presentatie Kerk te Asten
CATEGORIES:Extern concert
END:VEVENT
END:VCALENDAR