BEGIN:VCALENDAR
VERSION:2.0
PRODID:-//Frans van Tuijl - ECPv6.15.18//NONSGML v1.0//EN
CALSCALE:GREGORIAN
METHOD:PUBLISH
X-WR-CALNAME:Frans van Tuijl
X-ORIGINAL-URL:https://fransvantuijl.com
X-WR-CALDESC:Evenementen voor Frans van Tuijl
REFRESH-INTERVAL;VALUE=DURATION:PT1H
X-Robots-Tag:noindex
X-PUBLISHED-TTL:PT1H
BEGIN:VTIMEZONE
TZID:Europe/Amsterdam
BEGIN:DAYLIGHT
TZOFFSETFROM:+0100
TZOFFSETTO:+0200
TZNAME:CEST
DTSTART:20240331T010000
END:DAYLIGHT
BEGIN:STANDARD
TZOFFSETFROM:+0200
TZOFFSETTO:+0100
TZNAME:CET
DTSTART:20241027T010000
END:STANDARD
BEGIN:DAYLIGHT
TZOFFSETFROM:+0100
TZOFFSETTO:+0200
TZNAME:CEST
DTSTART:20250330T010000
END:DAYLIGHT
BEGIN:STANDARD
TZOFFSETFROM:+0200
TZOFFSETTO:+0100
TZNAME:CET
DTSTART:20251026T010000
END:STANDARD
BEGIN:DAYLIGHT
TZOFFSETFROM:+0100
TZOFFSETTO:+0200
TZNAME:CEST
DTSTART:20260329T010000
END:DAYLIGHT
BEGIN:STANDARD
TZOFFSETFROM:+0200
TZOFFSETTO:+0100
TZNAME:CET
DTSTART:20261025T010000
END:STANDARD
END:VTIMEZONE
BEGIN:VEVENT
DTSTART;TZID=Europe/Amsterdam:20251116T133000
DTEND;TZID=Europe/Amsterdam:20251116T170000
DTSTAMP:20260424T151712
CREATED:20251101T114132Z
LAST-MODIFIED:20251101T114257Z
UID:28063-1763299800-1763312400@fransvantuijl.com
SUMMARY:Concert op 16 november 2025 met het Veldhovens Mannenkoor
DESCRIPTION:Concert op 16 november in De Ligt in Veldhoven\nOmdat we jarig zijn verzorgt Veldhovens Mannenkoor (VMK) enkele gratis concerten in regio de Kempen. \nWe sluiten de concertserie af met HET jubileumconcert van Veldhovens Mannenkoor! 16 november van 13.30 – 17 uur met gezellige nazit\, in De Ligt Veldhoven.\nPianist: Frans van Tuijl \n\n\n\n \n\n\nVeldhovens Mannenkoor\nbestaat 65 jaar! \n\n\n\nWe vieren dat met een leuke mix aan optredens: \nLees meer hierover \n\n\n\n\n\nOok zin om te zingen?\nVeldhovens Mannenkoor is meer dan alleen zingen:\nWij zijn een koor met zangers uit de Kempen dat gezelligheid combineert met kwaliteit. Optredens\, gezelligheid\, uitjes met het koor\, kameraadschap\, repeteren\, zingen\, naborrelen (afterglow).\nZingen bij het Veldhovens Mannenkoor is meer dan alleen zingen. 1x per week repeteren we op dinsdagavond om op onze concerten (ook samen met andere koren\, orkesten\, dansgezelschappen\, toneelgroepen etc.) goed voor de dag te komen. \nLijkt jou dat wel wat\, zingen in een mannenkoor? Gezellig één avond in de week met ons repeteren? Zet die eerste stap\, neem contact met ons op en kom vrijblijvend eens een kijkje nemen bij een van onze repetities. \nHeb je al een hobby? Geen probleem\, zingen kan altijd! \n 
URL:https://fransvantuijl.com/event/concert-op-16-november-met-het-veldhovens-mannenkoor/
CATEGORIES:Extern concert
END:VEVENT
END:VCALENDAR